BEGIN:VCALENDAR
VERSION:2.0
PRODID:-//Postelein - ECPv6.15.11//NONSGML v1.0//EN
CALSCALE:GREGORIAN
METHOD:PUBLISH
X-WR-CALNAME:Postelein
X-ORIGINAL-URL:https://posteleinpwo.nl
X-WR-CALDESC:Evenementen voor Postelein
REFRESH-INTERVAL;VALUE=DURATION:PT1H
X-Robots-Tag:noindex
X-PUBLISHED-TTL:PT1H
BEGIN:VTIMEZONE
TZID:Europe/Amsterdam
BEGIN:DAYLIGHT
TZOFFSETFROM:+0100
TZOFFSETTO:+0200
TZNAME:CEST
DTSTART:20240331T010000
END:DAYLIGHT
BEGIN:STANDARD
TZOFFSETFROM:+0200
TZOFFSETTO:+0100
TZNAME:CET
DTSTART:20241027T010000
END:STANDARD
BEGIN:DAYLIGHT
TZOFFSETFROM:+0100
TZOFFSETTO:+0200
TZNAME:CEST
DTSTART:20250330T010000
END:DAYLIGHT
BEGIN:STANDARD
TZOFFSETFROM:+0200
TZOFFSETTO:+0100
TZNAME:CET
DTSTART:20251026T010000
END:STANDARD
BEGIN:DAYLIGHT
TZOFFSETFROM:+0100
TZOFFSETTO:+0200
TZNAME:CEST
DTSTART:20260329T010000
END:DAYLIGHT
BEGIN:STANDARD
TZOFFSETFROM:+0200
TZOFFSETTO:+0100
TZNAME:CET
DTSTART:20261025T010000
END:STANDARD
END:VTIMEZONE
BEGIN:VEVENT
DTSTART;TZID=Europe/Amsterdam:20251021T100000
DTEND;TZID=Europe/Amsterdam:20251021T160000
DTSTAMP:20260421T142042
CREATED:20251002T121140Z
LAST-MODIFIED:20251002T121140Z
UID:35770-1761040800-1761062400@posteleinpwo.nl
SUMMARY:Studie-uurtje
DESCRIPTION:Wil je ook voorbereid naar de tentamens? Kom dan naar het Studie-uurtje!
URL:https://posteleinpwo.nl/event/studie-uurtje-7/
END:VEVENT
BEGIN:VEVENT
DTSTART;TZID=Europe/Amsterdam:20251028T100000
DTEND;TZID=Europe/Amsterdam:20251028T160000
DTSTAMP:20260421T142042
CREATED:20251025T142210Z
LAST-MODIFIED:20251111T193833Z
UID:35966-1761645600-1761667200@posteleinpwo.nl
SUMMARY:Studie-uurtje
DESCRIPTION:Studie-uurtje
URL:https://posteleinpwo.nl/event/studie-uurtje-8/
END:VEVENT
END:VCALENDAR